BEGIN:VCALENDAR
VERSION:2.0
PRODID:-//eventon.com NONSGML v1.0//EN
CALSCALE:GREGORIAN
METHOD:PUBLISH
BEGIN:VEVENT
UID:69e7add9cc9f6
DTSTAMP:20260421T170321Z
DTSTART:20261116
DTEND:20261117
LOCATION:Lilydale Marketplace 33 Hutchinson st Lilydale
SUMMARY:Lilydale Marketplace Shopping Centre
DESCRIPTION:\nhttps://frothnflames.com.au/events/lilydale-marketplace-shopp
 ing-centre-16/
URL:https://frothnflames.com.au/events/lilydale-marketplace-shopping-centre-16/
END:VEVENT
END:VCALENDAR