BEGIN:VCALENDAR
VERSION:2.0
PRODID:-//eventon.com NONSGML v1.0//EN
CALSCALE:GREGORIAN
METHOD:PUBLISH
BEGIN:VEVENT
UID:69e798c92693d
DTSTAMP:20260421T153329Z
DTSTART:20261012
DTEND:20261013
LOCATION:Lilydale Marketplace 33 Hutchinson st Lilydale
SUMMARY:Lilydale Marketplace Shopping Centre
DESCRIPTION:\nhttps://frothnflames.com.au/events/lilydale-marketplace-shopp
 ing-centre-15/
URL:https://frothnflames.com.au/events/lilydale-marketplace-shopping-centre-15/
END:VEVENT
END:VCALENDAR