BEGIN:VCALENDAR
VERSION:2.0
PRODID:-//eventon.com NONSGML v1.0//EN
CALSCALE:GREGORIAN
METHOD:PUBLISH
BEGIN:VEVENT
UID:69e9c8db48ba0
DTSTAMP:20260423T072307Z
DTSTART:20260907
DTEND:20260908
LOCATION:Lilydale Marketplace 33 Hutchinson st Lilydale
SUMMARY:Lilydale Marketplace Shopping Centre
DESCRIPTION:\nhttps://frothnflames.com.au/events/lilydale-marketplace-shopp
 ing-centre-14/
URL:https://frothnflames.com.au/events/lilydale-marketplace-shopping-centre-14/
END:VEVENT
END:VCALENDAR