BEGIN:VCALENDAR
VERSION:2.0
PRODID:-//eventon.com NONSGML v1.0//EN
CALSCALE:GREGORIAN
METHOD:PUBLISH
BEGIN:VEVENT
UID:69e7ae1945bb5
DTSTAMP:20260421T170425Z
DTSTART:20260810
DTEND:20260811
LOCATION:Lilydale Marketplace 33 Hutchinson st Lilydale
SUMMARY:Lilydale Marketplace Shopping Centre
DESCRIPTION:\nhttps://frothnflames.com.au/events/lilydale-marketplace-shopp
 ing-centre-13/
URL:https://frothnflames.com.au/events/lilydale-marketplace-shopping-centre-13/
END:VEVENT
END:VCALENDAR