BEGIN:VCALENDAR
VERSION:2.0
PRODID:-//eventon.com NONSGML v1.0//EN
CALSCALE:GREGORIAN
METHOD:PUBLISH
BEGIN:VEVENT
UID:69e7ad8d07c9f
DTSTAMP:20260421T170205Z
DTSTART:20260713
DTEND:20260714
LOCATION:Lilydale Marketplace 33 Hutchinson st Lilydale
SUMMARY:Lilydale Marketplace Shopping Centre
DESCRIPTION:\nhttps://frothnflames.com.au/events/lilydale-marketplace-shopp
 ing-centre-12/
URL:https://frothnflames.com.au/events/lilydale-marketplace-shopping-centre-12/
END:VEVENT
END:VCALENDAR