BEGIN:VCALENDAR
VERSION:2.0
PRODID:-//eventon.com NONSGML v1.0//EN
CALSCALE:GREGORIAN
METHOD:PUBLISH
BEGIN:VEVENT
UID:69e7ad0f01d41
DTSTAMP:20260421T165959Z
DTSTART:20260615
DTEND:20260616
LOCATION:Lilydale Marketplace 33 Hutchinson st Lilydale
SUMMARY:Lilydale Marketplace Shopping Centre
DESCRIPTION:\nhttps://frothnflames.com.au/events/lilydale-marketplace-shopp
 ing-centre-11/
URL:https://frothnflames.com.au/events/lilydale-marketplace-shopping-centre-11/
END:VEVENT
END:VCALENDAR