BEGIN:VCALENDAR
VERSION:2.0
PRODID:-//eventon.com NONSGML v1.0//EN
CALSCALE:GREGORIAN
METHOD:PUBLISH
BEGIN:VEVENT
UID:69e79885a5756
DTSTAMP:20260421T153221Z
DTSTART:20261106T210000Z
DTEND:20261107T020000Z
LOCATION:Warrandyte Market stiggant st warrandyte
SUMMARY:Warrandyte Riverside Market
DESCRIPTION:Warrandyte Riverside Market\nhttps://frothnflames.com.au/events
 /warrandyte-riverside-market-17/var/ri-4.l-L1
URL:https://frothnflames.com.au/events/warrandyte-riverside-market-17/var/ri-4.l-L1
END:VEVENT
END:VCALENDAR