BEGIN:VCALENDAR
VERSION:2.0
PRODID:-//eventon.com NONSGML v1.0//EN
CALSCALE:GREGORIAN
METHOD:PUBLISH
BEGIN:VEVENT
UID:69e7ad667d08a
DTSTAMP:20260421T170126Z
DTSTART:20260914
DTEND:20260915
LOCATION:Stud Park Shopping Centre Stud Rd & Fulham Rd\, 
SUMMARY:Stud Park Shopping Centre Rowville
DESCRIPTION:Stud Park Shopping Centre Rowville\nhttps://frothnflames.com.au
 /events/stud-park-shopping-centre-rowville-38/
URL:https://frothnflames.com.au/events/stud-park-shopping-centre-rowville-38/
END:VEVENT
END:VCALENDAR