BEGIN:VCALENDAR
VERSION:2.0
PRODID:-//eventon.com NONSGML v1.0//EN
CALSCALE:GREGORIAN
METHOD:PUBLISH
BEGIN:VEVENT
UID:69e79839df01b
DTSTAMP:20260421T153105Z
DTSTART:20260504
DTEND:20260505
LOCATION:Stud Park Shopping Centre Stud Rd & Fulham Rd\, 
SUMMARY:Stud Park Shopping Centre Rowville
DESCRIPTION:Stud Park Shopping Centre Rowville\nhttps://frothnflames.com.au
 /events/stud-park-shopping-centre-rowville-35/
URL:https://frothnflames.com.au/events/stud-park-shopping-centre-rowville-35/
END:VEVENT
END:VCALENDAR