BEGIN:VCALENDAR
VERSION:2.0
PRODID:-//eventon.com NONSGML v1.0//EN
CALSCALE:GREGORIAN
METHOD:PUBLISH
BEGIN:VEVENT
UID:69ea9451c36c1
DTSTAMP:20260423T215113Z
DTSTART:20241124T110000Z
DTEND:20241124T150000Z
LOCATION:Forest Hill Chase (Level 3) 270 canterbury Rd Forest Hill
SUMMARY:Forest Hill Chase Xmas Market
DESCRIPTION:\nhttps://frothnflames.com.au/events/forest-hill-chase-xmas-mar
 ket/
URL:https://frothnflames.com.au/events/forest-hill-chase-xmas-market/
END:VEVENT
END:VCALENDAR