BEGIN:VCALENDAR
VERSION:2.0
PRODID:-//eventon.com NONSGML v1.0//EN
CALSCALE:GREGORIAN
METHOD:PUBLISH
BEGIN:VEVENT
UID:69e785e4a92dd
DTSTAMP:20260421T141252Z
DTSTART:20231104T220000Z
DTEND:20231105T030000Z
LOCATION:Yarra Glen Yarra Glen Racecourse Yarra Glen VIC 3775
SUMMARY:Yarra Glen (Craft Market)
DESCRIPTION:\nhttps://frothnflames.com.au/events/yarra-glen-craft-market-12
 /
URL:https://frothnflames.com.au/events/yarra-glen-craft-market-12/
END:VEVENT
END:VCALENDAR