BEGIN:VCALENDAR
VERSION:2.0
PRODID:-//eventon.com NONSGML v1.0//EN
CALSCALE:GREGORIAN
METHOD:PUBLISH
BEGIN:VEVENT
UID:69e7f1b950bd3
DTSTAMP:20260421T215257Z
DTSTART:20230318T220000Z
DTEND:20230319T030000Z
LOCATION:Mornington Race Course 320 Racecourse Road Mornington
SUMMARY:Mornington Craft Market
DESCRIPTION:Mornington Craft Market\nhttps://frothnflames.com.au/events/mor
 nington-craft-market-13/
URL:https://frothnflames.com.au/events/mornington-craft-market-13/
END:VEVENT
END:VCALENDAR