BEGIN:VCALENDAR
VERSION:2.0
PRODID:-//eventon.com NONSGML v1.0//EN
CALSCALE:GREGORIAN
METHOD:PUBLISH
BEGIN:VEVENT
UID:69eb24a35a29c
DTSTAMP:20260424T080659Z
DTSTART:20220702T230000Z
DTEND:20220703T040000Z
LOCATION:Yarra Glen Yarra Glen Racecourse Yarra Glen VIC 3775
SUMMARY:Yarra Glen Craft Market
DESCRIPTION:Yarra Glen Craft Market\nhttps://frothnflames.com.au/events/yar
 ra-glen-craft-market-10/
URL:https://frothnflames.com.au/events/yarra-glen-craft-market-10/
END:VEVENT
END:VCALENDAR