BEGIN:VCALENDAR
VERSION:2.0
PRODID:-//eventon.com NONSGML v1.0//EN
CALSCALE:GREGORIAN
METHOD:PUBLISH
BEGIN:VEVENT
UID:69ea47d22f112
DTSTAMP:20260423T162450Z
DTSTART:20210508T230000Z
DTEND:20210509T040000Z
LOCATION:
SUMMARY:Mornington Craft Market
DESCRIPTION:Mornington Craft Market\nhttps://frothnflames.com.au/events/mor
 nington-craft-market/
URL:https://frothnflames.com.au/events/mornington-craft-market/
END:VEVENT
END:VCALENDAR